BEGIN:VCALENDAR
VERSION:2.0
PRODID:-//OsakaLive//OsakaLive//EN
CALSCALE:GREGORIAN
METHOD:PUBLISH
BEGIN:VEVENT
UID:d862815c-1e56-4f43-a9dd-32e78883514b@osaka-live.app
DTSTAMP:20260424T123748Z
DTSTART;VALUE=DATE:20260411
DTEND;VALUE=DATE:20260412
SUMMARY:たいちよんじゅっ祭
LOCATION:Umeda Zeela\, Osaka\, Japan
DESCRIPTION:Adv ¥2,300 / Door ¥2,300
END:VEVENT
END:VCALENDAR
