BEGIN:VCALENDAR
VERSION:2.0
PRODID:-//OsakaLive//OsakaLive//EN
CALSCALE:GREGORIAN
METHOD:PUBLISH
BEGIN:VEVENT
UID:d7334e95-d6d4-46e2-9444-32b7adec9221@osaka-live.app
DTSTAMP:20260424T123717Z
DTSTART;TZID=Asia/Tokyo:20260426T1700:0000
DTEND;TZID=Asia/Tokyo:20260426T190000
SUMMARY:NANIMONO TOUR 2026 「コンティニューしますか？
LOCATION:BIG CAT\, Americamura\, Nishi Ward\, Osaka
DESCRIPTION:Doors 16:15:00\nStart 17:00:00\nTickets: http://l-tike.com/
URL:http://l-tike.com/
END:VEVENT
END:VCALENDAR
