BEGIN:VCALENDAR
VERSION:2.0
PRODID:-//OsakaLive//OsakaLive//EN
CALSCALE:GREGORIAN
METHOD:PUBLISH
BEGIN:VEVENT
UID:d6db772b-a217-4af9-aba3-132d87c75ace@osaka-live.app
DTSTAMP:20260424T121526Z
DTSTART;VALUE=DATE:20270715
DTEND;VALUE=DATE:20270716
SUMMARY:■ザ・ホーンテッド／The Haunted
LOCATION:Umeda Club Quattro\, Osaka\, Japan
END:VEVENT
END:VCALENDAR
