BEGIN:VCALENDAR
VERSION:2.0
PRODID:-//OsakaLive//OsakaLive//EN
CALSCALE:GREGORIAN
METHOD:PUBLISH
BEGIN:VEVENT
UID:d6d4c1cd-62a3-4c75-b98f-1889a4a8e763@osaka-live.app
DTSTAMP:20260424T123612Z
DTSTART;TZID=Asia/Tokyo:20260406T1830:0000
DTEND;TZID=Asia/Tokyo:20260406T203000
SUMMARY:colorin c 2nd Single『ラブビーム』Release Event
LOCATION:Americamura DROP\, Osaka\, Japan
DESCRIPTION:Doors 18:00:00\nStart 18:30:00
END:VEVENT
END:VCALENDAR
