BEGIN:VCALENDAR
VERSION:2.0
PRODID:-//OsakaLive//OsakaLive//EN
CALSCALE:GREGORIAN
METHOD:PUBLISH
BEGIN:VEVENT
UID:d6835ebe-ba1a-4fa9-b277-b3ed6eae61fa@osaka-live.app
DTSTAMP:20260424T121326Z
DTSTART;TZID=Asia/Tokyo:20260509T1900:0000
DTEND;TZID=Asia/Tokyo:20260509T210000
SUMMARY:SMASH YOUR CHANS!!!!
LOCATION:Namba BEARS\, Osaka\, Japan
DESCRIPTION:Adv ¥2,500 / Door ¥3,000\nDoors 18:30:00\nStart 19:00:00
END:VEVENT
END:VCALENDAR
