BEGIN:VCALENDAR
VERSION:2.0
PRODID:-//OsakaLive//OsakaLive//EN
CALSCALE:GREGORIAN
METHOD:PUBLISH
BEGIN:VEVENT
UID:d5ea5df1-87e7-40d5-8390-35360892312e@osaka-live.app
DTSTAMP:20260424T141020Z
DTSTART;VALUE=DATE:20260705
DTEND;VALUE=DATE:20260706
SUMMARY:LARGE400 vs でぶコーネリアスEX
LOCATION:Namba BEARS\, Osaka\, Japan
END:VEVENT
END:VCALENDAR
