BEGIN:VCALENDAR
VERSION:2.0
PRODID:-//OsakaLive//OsakaLive//EN
CALSCALE:GREGORIAN
METHOD:PUBLISH
BEGIN:VEVENT
UID:d4f244ae-83f1-47e7-893b-3d9df7895e58@osaka-live.app
DTSTAMP:20260424T123041Z
DTSTART;TZID=Asia/Tokyo:20260502T1715:0000
DTEND;TZID=Asia/Tokyo:20260502T191500
SUMMARY:ウツシヨ x yuna共同主催
LOCATION:Namba Mele\, Namba\, Chuo Ward\, Osaka
DESCRIPTION:Adv ¥3,000 / Door ¥3,500\nDoors 17:00:00\nStart 17:15:00\nTicke
 ts: https://eplus.jp/sf/detail/4473500001-P0030001
URL:https://eplus.jp/sf/detail/4473500001-P0030001
END:VEVENT
END:VCALENDAR
