BEGIN:VCALENDAR
VERSION:2.0
PRODID:-//OsakaLive//OsakaLive//EN
CALSCALE:GREGORIAN
METHOD:PUBLISH
BEGIN:VEVENT
UID:d4df3251-c796-4299-9415-703909866398@osaka-live.app
DTSTAMP:20260424T123847Z
DTSTART;TZID=Asia/Tokyo:20260427T1900:0000
DTEND;TZID=Asia/Tokyo:20260427T210000
SUMMARY:感灯終唱（かんとうしゅうしょう
LOCATION:BIG CAT\, Americamura\, Nishi Ward\, Osaka
DESCRIPTION:Doors 18:00:00\nStart 19:00:00\nTickets: http://l-tike.com/
URL:http://l-tike.com/
END:VEVENT
END:VCALENDAR
