BEGIN:VCALENDAR
VERSION:2.0
PRODID:-//OsakaLive//OsakaLive//EN
CALSCALE:GREGORIAN
METHOD:PUBLISH
BEGIN:VEVENT
UID:d46d110b-c4bb-4591-9986-b1b7c05b3e60@osaka-live.app
DTSTAMP:20260425T003018Z
DTSTART;VALUE=DATE:20270527
DTEND;VALUE=DATE:20270528
SUMMARY:■Duel
LOCATION:Grand Cube Osaka\, Osaka\, Japan
END:VEVENT
END:VCALENDAR
