BEGIN:VCALENDAR
VERSION:2.0
PRODID:-//OsakaLive//OsakaLive//EN
CALSCALE:GREGORIAN
METHOD:PUBLISH
BEGIN:VEVENT
UID:d2e8d0ca-756d-4fd8-a4e1-770c0e035738@osaka-live.app
DTSTAMP:20260424T122151Z
DTSTART;TZID=Asia/Tokyo:20260511T1900:0000
DTEND;TZID=Asia/Tokyo:20260511T210000
SUMMARY:MFAD#90
LOCATION:Namba BEARS\, Osaka\, Japan
DESCRIPTION:Adv ¥2,300 / Door ¥2,800\nDoors 18:30:00\nStart 19:00:00
END:VEVENT
END:VCALENDAR
