BEGIN:VCALENDAR
VERSION:2.0
PRODID:-//OsakaLive//OsakaLive//EN
CALSCALE:GREGORIAN
METHOD:PUBLISH
BEGIN:VEVENT
UID:d1bc521f-a527-44c8-b9a5-1ea3cd8f1d23@osaka-live.app
DTSTAMP:20260424T121756Z
DTSTART;TZID=Asia/Tokyo:20260513T1800:0000
DTEND;TZID=Asia/Tokyo:20260513T200000
SUMMARY:MONSARN baSH 2026
LOCATION:Yogibo META VALLEY\, Osaka\, Japan
DESCRIPTION:Adv ¥8,500 / Door ¥3,000\nDoors 17:30:00\nStart 18:00:00
END:VEVENT
END:VCALENDAR
