BEGIN:VCALENDAR
VERSION:2.0
PRODID:-//OsakaLive//OsakaLive//EN
CALSCALE:GREGORIAN
METHOD:PUBLISH
BEGIN:VEVENT
UID:cf928a61-9f61-4b0a-b714-34f207e60b09@osaka-live.app
DTSTAMP:20260424T123534Z
DTSTART;VALUE=DATE:20270915
DTEND;VALUE=DATE:20270916
SUMMARY:■エピカ／Epica
LOCATION:BIG CAT\, Americamura\, Nishi Ward\, Osaka
END:VEVENT
END:VCALENDAR
