BEGIN:VCALENDAR
VERSION:2.0
PRODID:-//OsakaLive//OsakaLive//EN
CALSCALE:GREGORIAN
METHOD:PUBLISH
BEGIN:VEVENT
UID:ce2f941d-3fec-4378-a819-42bcfbed26f8@osaka-live.app
DTSTAMP:20260424T154323Z
DTSTART;TZID=Asia/Tokyo:20260424T1810:0000
DTEND;TZID=Asia/Tokyo:20260424T201000
SUMMARY:日ノ目企画presents “GOLDENEYE”
LOCATION:Americamura DROP\, Osaka\, Japan
DESCRIPTION:Doors 17:50:00\nStart 18:10:00
END:VEVENT
END:VCALENDAR
