BEGIN:VCALENDAR
VERSION:2.0
PRODID:-//OsakaLive//OsakaLive//EN
CALSCALE:GREGORIAN
METHOD:PUBLISH
BEGIN:VEVENT
UID:ce2cd1f8-c4a6-4a44-b002-1aaed0577206@osaka-live.app
DTSTAMP:20260424T135929Z
DTSTART;TZID=Asia/Tokyo:20260815T1830:0000
DTEND;TZID=Asia/Tokyo:20260815T203000
SUMMARY:X 1ark ONE MAN LIVE “REAL TALK”
LOCATION:Yogibo META VALLEY\, Osaka\, Japan
DESCRIPTION:Adv ¥6,000 / Door ¥20,000\nDoors 17:30:00\nStart 18:30:00
END:VEVENT
END:VCALENDAR
