BEGIN:VCALENDAR
VERSION:2.0
PRODID:-//OsakaLive//OsakaLive//EN
CALSCALE:GREGORIAN
METHOD:PUBLISH
BEGIN:VEVENT
UID:cd8da5d5-0047-40ae-af7e-afd634165f10@osaka-live.app
DTSTAMP:20260424T135656Z
DTSTART;TZID=Asia/Tokyo:20260621T1600:0000
DTEND;TZID=Asia/Tokyo:20260621T180000
SUMMARY:DRAGON PONY 2026 Run To Run JAPAN TOUR
LOCATION:Yogibo META VALLEY\, Osaka\, Japan
DESCRIPTION:Adv ¥10,200 / Door ¥8,800\nDoors 15:30:00\nStart 16:00:00
END:VEVENT
END:VCALENDAR
