BEGIN:VCALENDAR
VERSION:2.0
PRODID:-//OsakaLive//OsakaLive//EN
CALSCALE:GREGORIAN
METHOD:PUBLISH
BEGIN:VEVENT
UID:cd48c7fa-df0b-489d-a819-78aa18007115@osaka-live.app
DTSTAMP:20260424T153732Z
DTSTART;TZID=Asia/Tokyo:20260625T1900:0000
DTEND;TZID=Asia/Tokyo:20260625T210000
SUMMARY:SUPER SONIC TOUR 2026
LOCATION:Americamura DROP\, Osaka\, Japan
DESCRIPTION:Doors 18:30:00\nStart 19:00:00
END:VEVENT
END:VCALENDAR
