BEGIN:VCALENDAR
VERSION:2.0
PRODID:-//OsakaLive//OsakaLive//EN
CALSCALE:GREGORIAN
METHOD:PUBLISH
BEGIN:VEVENT
UID:cc339655-9bd4-453d-99bb-9c6e87cbeee2@osaka-live.app
DTSTAMP:20260424T153020Z
DTSTART;TZID=Asia/Tokyo:20260405T1030:0000
DTEND;TZID=Asia/Tokyo:20260405T123000
SUMMARY:二刀流系アイドルFortuness 東名阪ツアー2026
LOCATION:Americamura DROP\, Osaka\, Japan
DESCRIPTION:Doors 10:00:00\nStart 10:30:00
END:VEVENT
END:VCALENDAR
