BEGIN:VCALENDAR
VERSION:2.0
PRODID:-//OsakaLive//OsakaLive//EN
CALSCALE:GREGORIAN
METHOD:PUBLISH
BEGIN:VEVENT
UID:cc106177-362c-441f-83bf-608fd38b7cd9@osaka-live.app
DTSTAMP:20260424T123355Z
DTSTART;VALUE=DATE:20260411
DTEND;VALUE=DATE:20260412
SUMMARY:ぴあ・ローソン・e+
LOCATION:Music Club JANUS\, Shinsaibashi\, Chuo Ward\, Osaka
DESCRIPTION:Adv ¥2,500 / Door ¥2,500
END:VEVENT
END:VCALENDAR
