BEGIN:VCALENDAR
VERSION:2.0
PRODID:-//OsakaLive//OsakaLive//EN
CALSCALE:GREGORIAN
METHOD:PUBLISH
BEGIN:VEVENT
UID:cbd1e840-cd34-42f3-9d78-b06252097178@osaka-live.app
DTSTAMP:20260424T122750Z
DTSTART;VALUE=DATE:20260427
DTEND;VALUE=DATE:20260428
SUMMARY:Zeela presents "ムーンライトストライク"
LOCATION:Umeda Zeela\, Osaka\, Japan
DESCRIPTION:Adv ¥2,500 / Door ¥3,000
END:VEVENT
END:VCALENDAR
