BEGIN:VCALENDAR
VERSION:2.0
PRODID:-//OsakaLive//OsakaLive//EN
CALSCALE:GREGORIAN
METHOD:PUBLISH
BEGIN:VEVENT
UID:cb158558-ab93-4b33-a7d0-8dbfcda6cc16@osaka-live.app
DTSTAMP:20260424T135608Z
DTSTART;TZID=Asia/Tokyo:20260719T1900:0000
DTEND;TZID=Asia/Tokyo:20260719T210000
SUMMARY:知育菓子の
LOCATION:Namba BEARS\, Osaka\, Japan
DESCRIPTION:Adv ¥3,000 / Door ¥3,500\nDoors 18:30:00\nStart 19:00:00
END:VEVENT
END:VCALENDAR
