BEGIN:VCALENDAR
VERSION:2.0
PRODID:-//OsakaLive//OsakaLive//EN
CALSCALE:GREGORIAN
METHOD:PUBLISH
BEGIN:VEVENT
UID:caee1d02-f99c-45e7-bd6b-80182577740b@osaka-live.app
DTSTAMP:20260424T154800Z
DTSTART;VALUE=DATE:20260402
DTEND;VALUE=DATE:20260403
SUMMARY:賭博DJ録 シミズ -27億 誕生日編-
LOCATION:Americamura DROP\, Osaka\, Japan
DESCRIPTION:Doors 23:30:00
END:VEVENT
END:VCALENDAR
