BEGIN:VCALENDAR
VERSION:2.0
PRODID:-//OsakaLive//OsakaLive//EN
CALSCALE:GREGORIAN
METHOD:PUBLISH
BEGIN:VEVENT
UID:ca785f98-10a1-476d-83e2-06b8b368c6b7@osaka-live.app
DTSTAMP:20260424T122818Z
DTSTART;TZID=Asia/Tokyo:20260513T1900:0000
DTEND;TZID=Asia/Tokyo:20260513T210000
SUMMARY:o'summer vacation
LOCATION:Namba BEARS\, Osaka\, Japan
DESCRIPTION:Adv ¥2,000 / Door ¥2,500\nDoors 18:30:00\nStart 19:00:00
END:VEVENT
END:VCALENDAR
