BEGIN:VCALENDAR
VERSION:2.0
PRODID:-//OsakaLive//OsakaLive//EN
CALSCALE:GREGORIAN
METHOD:PUBLISH
BEGIN:VEVENT
UID:ca33d19b-6bdb-4fde-9b91-9b9726c80f2f@osaka-live.app
DTSTAMP:20260424T121659Z
DTSTART;TZID=Asia/Tokyo:20260427T1900:0000
DTEND;TZID=Asia/Tokyo:20260427T210000
SUMMARY:Tusks
LOCATION:Namba BEARS\, Osaka\, Japan
DESCRIPTION:Adv ¥2,000 / Door ¥2,000\nDoors 18:30:00\nStart 19:00:00
END:VEVENT
END:VCALENDAR
