BEGIN:VCALENDAR
VERSION:2.0
PRODID:-//OsakaLive//OsakaLive//EN
CALSCALE:GREGORIAN
METHOD:PUBLISH
BEGIN:VEVENT
UID:c9dce5ce-4b05-4672-b514-d7ed9a1a8de6@osaka-live.app
DTSTAMP:20260425T003421Z
DTSTART;VALUE=DATE:20270829
DTEND;VALUE=DATE:20270830
SUMMARY:■エレクトリック・コールボーイ／ELECTRIC CALLBOY
LOCATION:Osaka Ruido\, Namba\, Chuo Ward\, Osaka
END:VEVENT
END:VCALENDAR
