BEGIN:VCALENDAR
VERSION:2.0
PRODID:-//OsakaLive//OsakaLive//EN
CALSCALE:GREGORIAN
METHOD:PUBLISH
BEGIN:VEVENT
UID:c9c6eaa8-afa4-4401-8448-d9a98a376a42@osaka-live.app
DTSTAMP:20260424T123740Z
DTSTART;VALUE=DATE:20260426
DTEND;VALUE=DATE:20260427
SUMMARY:CØCØRIZE FREE LIVE 『QUATTRO挑戦決起
LOCATION:AtlantiQs\, Osaka\, Japan
END:VEVENT
END:VCALENDAR
