BEGIN:VCALENDAR
VERSION:2.0
PRODID:-//OsakaLive//OsakaLive//EN
CALSCALE:GREGORIAN
METHOD:PUBLISH
BEGIN:VEVENT
UID:c9990200-b22b-486f-a399-8ecab01d21e4@osaka-live.app
DTSTAMP:20260424T123710Z
DTSTART;VALUE=DATE:20260406
DTEND;VALUE=DATE:20260407
SUMMARY:Zeela presents. YAMINABE DEATH MATCH!! ～YAMINABE 6th Anniversary～ D
 ay.1
LOCATION:Umeda Zeela\, Osaka\, Japan
END:VEVENT
END:VCALENDAR
