BEGIN:VCALENDAR
VERSION:2.0
PRODID:-//OsakaLive//OsakaLive//EN
CALSCALE:GREGORIAN
METHOD:PUBLISH
BEGIN:VEVENT
UID:c9765866-9498-4e25-809f-f3fb6aa5aa46@osaka-live.app
DTSTAMP:20260424T123552Z
DTSTART;VALUE=DATE:20260410
DTEND;VALUE=DATE:20260411
SUMMARY:NIGHT
LOCATION:Hokage\, Chuo Ward\, Nishishinsaibashi 2-9-36\, Kasai Bldg B1F
END:VEVENT
END:VCALENDAR
