BEGIN:VCALENDAR
VERSION:2.0
PRODID:-//OsakaLive//OsakaLive//EN
CALSCALE:GREGORIAN
METHOD:PUBLISH
BEGIN:VEVENT
UID:c93462b0-84e4-4041-86fa-e57ae37c6239@osaka-live.app
DTSTAMP:20260425T003012Z
DTSTART;VALUE=DATE:20270604
DTEND;VALUE=DATE:20270605
SUMMARY:■パトリース・ラッシェン＆フレンズ／Patrice Rushen & Friends
LOCATION:Grand Cube Osaka\, Osaka\, Japan
END:VEVENT
END:VCALENDAR
