BEGIN:VCALENDAR
VERSION:2.0
PRODID:-//OsakaLive//OsakaLive//EN
CALSCALE:GREGORIAN
METHOD:PUBLISH
BEGIN:VEVENT
UID:c87de2bb-fea3-43b9-a108-71318b0d5c8a@osaka-live.app
DTSTAMP:20260424T123532Z
DTSTART;VALUE=DATE:20260429
DTEND;VALUE=DATE:20260430
SUMMARY:一般 / 当 （入場時別途1D代-必要
LOCATION:Americamura DROP\, Osaka\, Japan
DESCRIPTION:Adv ¥2,000 / Door ¥3,000
END:VEVENT
END:VCALENDAR
