BEGIN:VCALENDAR
VERSION:2.0
PRODID:-//OsakaLive//OsakaLive//EN
CALSCALE:GREGORIAN
METHOD:PUBLISH
BEGIN:VEVENT
UID:c6c5507f-09f9-44ed-96e1-8b72d693b2b4@osaka-live.app
DTSTAMP:20260424T122626Z
DTSTART;TZID=Asia/Tokyo:20260512T1900:0000
DTEND;TZID=Asia/Tokyo:20260512T210000
SUMMARY:Stand Atlantic Japan Tour 2026
LOCATION:Yogibo META VALLEY\, Osaka\, Japan
DESCRIPTION:Adv ¥4,000 / Door ¥7,500\nDoors 18:15:00\nStart 19:00:00
END:VEVENT
END:VCALENDAR
