BEGIN:VCALENDAR
VERSION:2.0
PRODID:-//OsakaLive//OsakaLive//EN
CALSCALE:GREGORIAN
METHOD:PUBLISH
BEGIN:VEVENT
UID:c62fd150-bbb6-4fdf-bbf3-37d2e34c1df1@osaka-live.app
DTSTAMP:20260424T135511Z
DTSTART;TZID=Asia/Tokyo:20260715T2000:0000
DTEND;TZID=Asia/Tokyo:20260715T220000
SUMMARY:慈愛/THE I 27
LOCATION:Namba BEARS\, Osaka\, Japan
DESCRIPTION:Adv ¥2,000 / Door ¥1,500\nDoors 19:30:00\nStart 20:00:00
END:VEVENT
END:VCALENDAR
