BEGIN:VCALENDAR
VERSION:2.0
PRODID:-//OsakaLive//OsakaLive//EN
CALSCALE:GREGORIAN
METHOD:PUBLISH
BEGIN:VEVENT
UID:c5e84c45-e238-47ca-8774-04d51e252fae@osaka-live.app
DTSTAMP:20260424T121439Z
DTSTART;TZID=Asia/Tokyo:20260502T1300:0000
DTEND;TZID=Asia/Tokyo:20260502T150000
SUMMARY:Kiima Kariis pre. "Lupa"
LOCATION:Namba BEARS\, Osaka\, Japan
DESCRIPTION:Adv ¥1,000 / Door ¥2,500\nDoors 12:30:00\nStart 13:00:00
END:VEVENT
END:VCALENDAR
