BEGIN:VCALENDAR
VERSION:2.0
PRODID:-//OsakaLive//OsakaLive//EN
CALSCALE:GREGORIAN
METHOD:PUBLISH
BEGIN:VEVENT
UID:c49ea275-2ba7-40ce-b50b-8e2894a0c96e@osaka-live.app
DTSTAMP:20260424T134021Z
DTSTART;TZID=Asia/Tokyo:20260604T1900:0000
DTEND;TZID=Asia/Tokyo:20260604T210000
SUMMARY:GARADAMA
LOCATION:Namba BEARS\, Osaka\, Japan
DESCRIPTION:Adv ¥3,500 / Door ¥3,500\nDoors 18:30:00\nStart 19:00:00
END:VEVENT
END:VCALENDAR
