BEGIN:VCALENDAR
VERSION:2.0
PRODID:-//OsakaLive//OsakaLive//EN
CALSCALE:GREGORIAN
METHOD:PUBLISH
BEGIN:VEVENT
UID:c403152b-1b07-41a5-8abd-427c37cbfddd@osaka-live.app
DTSTAMP:20260425T003415Z
DTSTART;VALUE=DATE:20270913
DTEND;VALUE=DATE:20270914
SUMMARY:■セメタリー・スカイライン／Cemetery Skyline
LOCATION:Grand Cube Osaka\, Osaka\, Japan
END:VEVENT
END:VCALENDAR
