BEGIN:VCALENDAR
VERSION:2.0
PRODID:-//OsakaLive//OsakaLive//EN
CALSCALE:GREGORIAN
METHOD:PUBLISH
BEGIN:VEVENT
UID:c25e13ff-cadb-410f-8a3d-612ea8a0d14f@osaka-live.app
DTSTAMP:20260424T154142Z
DTSTART;TZID=Asia/Tokyo:20260613T1200:0000
DTEND;TZID=Asia/Tokyo:20260613T140000
SUMMARY:Pangea EXPO 2026
LOCATION:Americamura DROP\, Osaka\, Japan
DESCRIPTION:Doors 11:00:00\nStart 12:00:00
END:VEVENT
END:VCALENDAR
