BEGIN:VCALENDAR
VERSION:2.0
PRODID:-//OsakaLive//OsakaLive//EN
CALSCALE:GREGORIAN
METHOD:PUBLISH
BEGIN:VEVENT
UID:c2241ab4-3070-45b3-ac33-903d0f3dfacb@osaka-live.app
DTSTAMP:20260424T140004Z
DTSTART;TZID=Asia/Tokyo:20260623T1930:0000
DTEND;TZID=Asia/Tokyo:20260623T213000
SUMMARY:慈愛/THE I 26
LOCATION:Namba BEARS\, Osaka\, Japan
DESCRIPTION:Adv ¥3,000 / Door ¥3,500\nDoors 19:00:00\nStart 19:30:00
END:VEVENT
END:VCALENDAR
