BEGIN:VCALENDAR
VERSION:2.0
PRODID:-//OsakaLive//OsakaLive//EN
CALSCALE:GREGORIAN
METHOD:PUBLISH
BEGIN:VEVENT
UID:c1e97eb7-faa4-4558-82a8-604927e01c44@osaka-live.app
DTSTAMP:20260424T134750Z
DTSTART;TZID=Asia/Tokyo:20260607T1700:0000
DTEND;TZID=Asia/Tokyo:20260607T190000
SUMMARY:不良番長決定戦2026
LOCATION:Namba BEARS\, Osaka\, Japan
DESCRIPTION:Adv ¥2,500 / Door ¥2,800\nDoors 16:30:00\nStart 17:00:00
END:VEVENT
END:VCALENDAR
