BEGIN:VCALENDAR
VERSION:2.0
PRODID:-//OsakaLive//OsakaLive//EN
CALSCALE:GREGORIAN
METHOD:PUBLISH
BEGIN:VEVENT
UID:c122d85e-265c-4e3a-a8bd-bf3e466b2ffd@osaka-live.app
DTSTAMP:20260424T135432Z
DTSTART;VALUE=DATE:20260710
DTEND;VALUE=DATE:20260711
SUMMARY:ご予約の受付は、までです。
LOCATION:Namba BEARS\, Osaka\, Japan
END:VEVENT
END:VCALENDAR
