BEGIN:VCALENDAR
VERSION:2.0
PRODID:-//OsakaLive//OsakaLive//EN
CALSCALE:GREGORIAN
METHOD:PUBLISH
BEGIN:VEVENT
UID:c115bb76-e5d8-412a-98c4-28ce83baf18b@osaka-live.app
DTSTAMP:20260424T123406Z
DTSTART;VALUE=DATE:20260403
DTEND;VALUE=DATE:20260404
SUMMARY:芹菜の酒4 -北斗泥酔拳セリナ爆誕！お前はもう飲んでいる！！
LOCATION:Americamura DROP\, Osaka\, Japan
DESCRIPTION:Doors 23:30:00
END:VEVENT
END:VCALENDAR
