BEGIN:VCALENDAR
VERSION:2.0
PRODID:-//OsakaLive//OsakaLive//EN
CALSCALE:GREGORIAN
METHOD:PUBLISH
BEGIN:VEVENT
UID:c0529f52-9dbd-4aa4-bb40-e71144849882@osaka-live.app
DTSTAMP:20260425T002428Z
DTSTART;VALUE=DATE:20270519
DTEND;VALUE=DATE:20270520
SUMMARY:■アルファ・ミスト／Alfa Mist
LOCATION:Grand Cube Osaka\, Osaka\, Japan
END:VEVENT
END:VCALENDAR
