BEGIN:VCALENDAR
VERSION:2.0
PRODID:-//OsakaLive//OsakaLive//EN
CALSCALE:GREGORIAN
METHOD:PUBLISH
BEGIN:VEVENT
UID:bed784ec-bd61-47f2-be49-eed981f88c0e@osaka-live.app
DTSTAMP:20260424T134407Z
DTSTART;TZID=Asia/Tokyo:20260531T1230:0000
DTEND;TZID=Asia/Tokyo:20260531T143000
SUMMARY:stick summit
LOCATION:Namba BEARS\, Osaka\, Japan
DESCRIPTION:Adv ¥2,500 / Door ¥2,500\nDoors 12:00:00\nStart 12:30:00
END:VEVENT
END:VCALENDAR
