BEGIN:VCALENDAR
VERSION:2.0
PRODID:-//OsakaLive//OsakaLive//EN
CALSCALE:GREGORIAN
METHOD:PUBLISH
BEGIN:VEVENT
UID:bd59496d-1e95-441f-b48f-178899c88c79@osaka-live.app
DTSTAMP:20260424T122527Z
DTSTART;TZID=Asia/Tokyo:20260510T1830:0000
DTEND;TZID=Asia/Tokyo:20260510T203000
SUMMARY:SPREAD
LOCATION:Namba BEARS\, Osaka\, Japan
DESCRIPTION:Adv ¥2,800 / Door ¥3,300\nDoors 18:00:00\nStart 18:30:00
END:VEVENT
END:VCALENDAR
