BEGIN:VCALENDAR
VERSION:2.0
PRODID:-//OsakaLive//OsakaLive//EN
CALSCALE:GREGORIAN
METHOD:PUBLISH
BEGIN:VEVENT
UID:bb24cc2c-98a0-41c3-9946-ff26f25e66b2@osaka-live.app
DTSTAMP:20260424T154334Z
DTSTART;TZID=Asia/Tokyo:20260422T1730:0000
DTEND;TZID=Asia/Tokyo:20260422T193000
SUMMARY:性傷年倶楽部 倶楽部会員募集ツアー
LOCATION:Americamura DROP\, Osaka\, Japan
DESCRIPTION:Doors 17:00:00\nStart 17:30:00
END:VEVENT
END:VCALENDAR
