BEGIN:VCALENDAR
VERSION:2.0
PRODID:-//OsakaLive//OsakaLive//EN
CALSCALE:GREGORIAN
METHOD:PUBLISH
BEGIN:VEVENT
UID:b95d3de0-ab0a-4717-bbbe-7f3ae70af8c8@osaka-live.app
DTSTAMP:20260424T123738Z
DTSTART;VALUE=DATE:20260409
DTEND;VALUE=DATE:20260410
SUMMARY:NIGHT
LOCATION:Hokage\, Chuo Ward\, Nishishinsaibashi 2-9-36\, Kasai Bldg B1F
END:VEVENT
END:VCALENDAR
