BEGIN:VCALENDAR
VERSION:2.0
PRODID:-//OsakaLive//OsakaLive//EN
CALSCALE:GREGORIAN
METHOD:PUBLISH
BEGIN:VEVENT
UID:b78da5f8-90b6-4ff8-a66b-57db71e5c95e@osaka-live.app
DTSTAMP:20260424T154446Z
DTSTART;TZID=Asia/Tokyo:20260418T1900:0000
DTEND;TZID=Asia/Tokyo:20260418T210000
SUMMARY:アブソプ 定期公演 『常世ノ輪
LOCATION:Americamura DROP\, Osaka\, Japan
DESCRIPTION:Doors 18:30:00\nStart 19:00:00
END:VEVENT
END:VCALENDAR
