BEGIN:VCALENDAR
VERSION:2.0
PRODID:-//OsakaLive//OsakaLive//EN
CALSCALE:GREGORIAN
METHOD:PUBLISH
BEGIN:VEVENT
UID:b7788afa-ed6d-4447-8c01-5b6932276f73@osaka-live.app
DTSTAMP:20260424T134412Z
DTSTART;TZID=Asia/Tokyo:20260615T1930:0000
DTEND;TZID=Asia/Tokyo:20260615T213000
SUMMARY:Saturation seepage
LOCATION:Namba BEARS\, Osaka\, Japan
DESCRIPTION:Adv ¥3,000 / Door ¥3,000\nDoors 19:00:00\nStart 19:30:00
END:VEVENT
END:VCALENDAR
