BEGIN:VCALENDAR
VERSION:2.0
PRODID:-//OsakaLive//OsakaLive//EN
CALSCALE:GREGORIAN
METHOD:PUBLISH
BEGIN:VEVENT
UID:b674e955-53b6-4472-8774-3b49cf76f188@osaka-live.app
DTSTAMP:20260424T122633Z
DTSTART;VALUE=DATE:20270930
DTEND;VALUE=DATE:20271001
SUMMARY:■カタトニア／Katatonia
LOCATION:Umeda Club Quattro\, Osaka\, Japan
END:VEVENT
END:VCALENDAR
