BEGIN:VCALENDAR
VERSION:2.0
PRODID:-//OsakaLive//OsakaLive//EN
CALSCALE:GREGORIAN
METHOD:PUBLISH
BEGIN:VEVENT
UID:b65bcd9e-9f13-4859-8b57-0f7ee4d39395@osaka-live.app
DTSTAMP:20260424T123717Z
DTSTART;TZID=Asia/Tokyo:20260418T0930:0000
DTEND;TZID=Asia/Tokyo:20260418T113000
SUMMARY:SCLIVE
LOCATION:Americamura DROP\, Osaka\, Japan
DESCRIPTION:Doors 09:10:00\nStart 09:30:00
END:VEVENT
END:VCALENDAR
