BEGIN:VCALENDAR
VERSION:2.0
PRODID:-//OsakaLive//OsakaLive//EN
CALSCALE:GREGORIAN
METHOD:PUBLISH
BEGIN:VEVENT
UID:b479c3e8-a9dc-4ceb-bb8d-384fcd83abfd@osaka-live.app
DTSTAMP:20260424T123225Z
DTSTART;TZID=Asia/Tokyo:20260422T1900:0000
DTEND;TZID=Asia/Tokyo:20260422T210000
SUMMARY:Yoonsung(韓国)JAPAN TOUR
LOCATION:Namba BEARS\, Osaka\, Japan
DESCRIPTION:Adv ¥2,300 / Door ¥2,800\nDoors 18:30:00\nStart 19:00:00
END:VEVENT
END:VCALENDAR
