BEGIN:VCALENDAR
VERSION:2.0
PRODID:-//OsakaLive//OsakaLive//EN
CALSCALE:GREGORIAN
METHOD:PUBLISH
BEGIN:VEVENT
UID:b4033fe3-5972-45d7-9635-6f9d34bb339f@osaka-live.app
DTSTAMP:20260424T134530Z
DTSTART;TZID=Asia/Tokyo:20260926T1800:0000
DTEND;TZID=Asia/Tokyo:20260926T200000
SUMMARY:MULASAKI IMA ONE MAN TOUR 2026
LOCATION:Yogibo META VALLEY\, Osaka\, Japan
DESCRIPTION:Adv ¥5,500 / Door ¥5,500\nDoors 17:00:00\nStart 18:00:00
END:VEVENT
END:VCALENDAR
